BEGIN:VCALENDAR
VERSION:2.0
PRODID:-//Teufelwerk - ECPv6.15.17.1//NONSGML v1.0//EN
CALSCALE:GREGORIAN
METHOD:PUBLISH
X-WR-CALNAME:Teufelwerk
X-ORIGINAL-URL:https://teufelwerk.de
X-WR-CALDESC:Veranstaltungen für Teufelwerk
REFRESH-INTERVAL;VALUE=DURATION:PT1H
X-Robots-Tag:noindex
X-PUBLISHED-TTL:PT1H
BEGIN:VTIMEZONE
TZID:Europe/Berlin
BEGIN:DAYLIGHT
TZOFFSETFROM:+0100
TZOFFSETTO:+0200
TZNAME:CEST
DTSTART:20230326T010000
END:DAYLIGHT
BEGIN:STANDARD
TZOFFSETFROM:+0200
TZOFFSETTO:+0100
TZNAME:CET
DTSTART:20231029T010000
END:STANDARD
BEGIN:DAYLIGHT
TZOFFSETFROM:+0100
TZOFFSETTO:+0200
TZNAME:CEST
DTSTART:20240331T010000
END:DAYLIGHT
BEGIN:STANDARD
TZOFFSETFROM:+0200
TZOFFSETTO:+0100
TZNAME:CET
DTSTART:20241027T010000
END:STANDARD
BEGIN:DAYLIGHT
TZOFFSETFROM:+0100
TZOFFSETTO:+0200
TZNAME:CEST
DTSTART:20250330T010000
END:DAYLIGHT
BEGIN:STANDARD
TZOFFSETFROM:+0200
TZOFFSETTO:+0100
TZNAME:CET
DTSTART:20251026T010000
END:STANDARD
END:VTIMEZONE
BEGIN:VEVENT
DTSTART;TZID=Europe/Berlin:20240330T210000
DTEND;TZID=Europe/Berlin:20240330T210000
DTSTAMP:20260422T104133
CREATED:20240306T142844Z
LAST-MODIFIED:20240306T153233Z
UID:9112-1711832400-1711832400@teufelwerk.de
SUMMARY:BUNNY VIBES
DESCRIPTION:Erlebe unsere Osterparty mit unwiderstehlichen Bunny Vibes! \nLive-Band ABGROOVEBEREIT und DJ Nic läuten ab 21:00 Uhr die Osterglocken und bringen mit ihren mitreißenden Dance-Beats die Hasen zum Hüpfen und die Eier zum Tanzen. \nErlebe eine Nacht voller Live-Musik und Freude! \nSichere dir deine Tickets im Vorverkauf und sei dabei\, wenn wir die legendäre Osterparty steigen lassen. \nEinlass ab 18 Jahren.
URL:https://teufelwerk.de/event/bunny-vibes-osterparty/
LOCATION:Teufelwerk
ATTACH;FMTTYPE=image/webp:https://teufelwerk.de/wp-content/uploads/Bunny-Vibes-1.png-1.webp
END:VEVENT
END:VCALENDAR