BEGIN:VCALENDAR
VERSION:2.0
PRODID:-//Teufelwerk - ECPv6.15.17.1//NONSGML v1.0//EN
CALSCALE:GREGORIAN
METHOD:PUBLISH
X-WR-CALNAME:Teufelwerk
X-ORIGINAL-URL:https://teufelwerk.de
X-WR-CALDESC:Veranstaltungen für Teufelwerk
REFRESH-INTERVAL;VALUE=DURATION:PT1H
X-Robots-Tag:noindex
X-PUBLISHED-TTL:PT1H
BEGIN:VTIMEZONE
TZID:Europe/Berlin
BEGIN:DAYLIGHT
TZOFFSETFROM:+0100
TZOFFSETTO:+0200
TZNAME:CEST
DTSTART:20230326T010000
END:DAYLIGHT
BEGIN:STANDARD
TZOFFSETFROM:+0200
TZOFFSETTO:+0100
TZNAME:CET
DTSTART:20231029T010000
END:STANDARD
BEGIN:DAYLIGHT
TZOFFSETFROM:+0100
TZOFFSETTO:+0200
TZNAME:CEST
DTSTART:20240331T010000
END:DAYLIGHT
BEGIN:STANDARD
TZOFFSETFROM:+0200
TZOFFSETTO:+0100
TZNAME:CET
DTSTART:20241027T010000
END:STANDARD
BEGIN:DAYLIGHT
TZOFFSETFROM:+0100
TZOFFSETTO:+0200
TZNAME:CEST
DTSTART:20250330T010000
END:DAYLIGHT
BEGIN:STANDARD
TZOFFSETFROM:+0200
TZOFFSETTO:+0100
TZNAME:CET
DTSTART:20251026T010000
END:STANDARD
END:VTIMEZONE
BEGIN:VEVENT
DTSTART;TZID=Europe/Berlin:20241031T210000
DTEND;TZID=Europe/Berlin:20241101T030000
DTSTAMP:20260419T215021
CREATED:20240917T144345Z
LAST-MODIFIED:20241025T103727Z
UID:9735-1730408400-1730430000@teufelwerk.de
SUMMARY:Halloween Party - We love the 90's
DESCRIPTION:Music by Andy Chiles\nLeute\, seid ihr bereit für die ultimative Zeitreise? Nach dem mega Erfolg im letzten Jahr nehmen wir euch jetzt wieder mit zurück in die 90er! Zieht eure besten Retro-Outfits an\, holt den Grunge\, die Neonfarben und die schrillen Accessoires zurück\, die unter dem Schwarzlicht zum Leben erwachen. \nDieses Mal haben wir ein besonderes Highlight für euch: Andy Chiles steht an den Decks! Mit seinem unverwechselbaren Mix aus 90er-Hits\, coolen Beats und überraschenden Sounds aus anderen Jahrzehnten sorgt er dafür\, dass die Tanzfläche brennt! Seine Sets sind legendär und garantieren\, dass ihr die ganze Nacht durchfeiert. \nErlebt den einzigartigen Vibe und die größten Hits der 90er – von Eurodance bis Hip-Hop\, von Boybands bis Grunge – und lasst euch von Andy Chiles in ein musikalisches Nostalgie-Feuerwerk katapultieren. Mit zwei Bars\, fetten Beats und einem All-Mixed-Up-Mix wird das TEUFELWERK zur ultimativen Party-Zone! \nAlso packt eure Choker\, Buffalos und Plateauschuhe ein und seid bereit\, die Tanzfläche zu rocken. Sichert euch euer Ticket\, denn das wird absolut legendär! Let’s go back to the 90’s – und noch mehr! \nEinlass ab 18 Jahren \n 
URL:https://teufelwerk.de/event/halloween-party-we-love-the-90s/
LOCATION:Teufelwerk
ATTACH;FMTTYPE=image/png:https://teufelwerk.de/wp-content/uploads/Halloween-2024.png
END:VEVENT
END:VCALENDAR