BEGIN:VCALENDAR
VERSION:2.0
PRODID:-//Teufelwerk - ECPv6.15.17.1//NONSGML v1.0//EN
CALSCALE:GREGORIAN
METHOD:PUBLISH
X-ORIGINAL-URL:https://teufelwerk.de
X-WR-CALDESC:Veranstaltungen für Teufelwerk
REFRESH-INTERVAL;VALUE=DURATION:PT1H
X-Robots-Tag:noindex
X-PUBLISHED-TTL:PT1H
BEGIN:VTIMEZONE
TZID:Europe/Berlin
BEGIN:DAYLIGHT
TZOFFSETFROM:+0100
TZOFFSETTO:+0200
TZNAME:CEST
DTSTART:20230326T010000
END:DAYLIGHT
BEGIN:STANDARD
TZOFFSETFROM:+0200
TZOFFSETTO:+0100
TZNAME:CET
DTSTART:20231029T010000
END:STANDARD
BEGIN:DAYLIGHT
TZOFFSETFROM:+0100
TZOFFSETTO:+0200
TZNAME:CEST
DTSTART:20240331T010000
END:DAYLIGHT
BEGIN:STANDARD
TZOFFSETFROM:+0200
TZOFFSETTO:+0100
TZNAME:CET
DTSTART:20241027T010000
END:STANDARD
BEGIN:DAYLIGHT
TZOFFSETFROM:+0100
TZOFFSETTO:+0200
TZNAME:CEST
DTSTART:20250330T010000
END:DAYLIGHT
BEGIN:STANDARD
TZOFFSETFROM:+0200
TZOFFSETTO:+0100
TZNAME:CET
DTSTART:20251026T010000
END:STANDARD
END:VTIMEZONE
BEGIN:VEVENT
DTSTART;TZID=Europe/Berlin:20241130T210000
DTEND;TZID=Europe/Berlin:20241201T040000
DTSTAMP:20260419T201359
CREATED:20241028T121627Z
LAST-MODIFIED:20241109T005336Z
UID:9837-1733000400-1733025600@teufelwerk.de
SUMMARY:River Spring Festival - up in space
DESCRIPTION:River Spring Festival – Winter Edition \nWir von River Spring gehen gemeinsam mit euch in die 2. Runde zur diesjährigen Winter Edition.\nLasst uns zusammen im TEUFELWERK nach den Sternen greifen und feiern bis wir die Stratosphäre durchbrechen. \nDamit dies geschieht\, sorgen sowohl unser Headliner Asmara & Estema als auch unser zweiter Headliner Philip Bogdan sowie ein weiterer Special Guest für einen Sound\, welcher uns ins Space katapultiert.\nNeben dem Raketenstart könnt ihr euch von weiteren Getränke Specials versorgen lassen und die Zeit der Schwerelose in einer Nacht mit pulsierenden Beats genießen. \nSeid bereit für die diesjährige „Winter Edition“\, die die Party-Szene in Nagold neu belebt. Sichert euch jetzt eure Tickets für ein upgespacetes Erlebnis voller Musik & Schwerelosigkeit! \n„Housten\, we don´t have a problem\, we have a Party at River Spring.“ \nTeilnahme und Einlass erst ab 18 Jahren! \nRegulärer VVK Ticket Preis: 16\,00 € | Early Access limitiert für nur: 14\,00 €
URL:https://teufelwerk.de/event/river-spring-festival-up-in-space/
ATTACH;FMTTYPE=image/jpeg:https://teufelwerk.de/wp-content/uploads/IMG_7233.jpg
END:VEVENT
END:VCALENDAR