BEGIN:VCALENDAR
VERSION:2.0
PRODID:-//Teufelwerk - ECPv6.15.17.1//NONSGML v1.0//EN
CALSCALE:GREGORIAN
METHOD:PUBLISH
X-WR-CALNAME:Teufelwerk
X-ORIGINAL-URL:https://teufelwerk.de
X-WR-CALDESC:Veranstaltungen für Teufelwerk
REFRESH-INTERVAL;VALUE=DURATION:PT1H
X-Robots-Tag:noindex
X-PUBLISHED-TTL:PT1H
BEGIN:VTIMEZONE
TZID:Europe/Berlin
BEGIN:DAYLIGHT
TZOFFSETFROM:+0100
TZOFFSETTO:+0200
TZNAME:CEST
DTSTART:20240331T010000
END:DAYLIGHT
BEGIN:STANDARD
TZOFFSETFROM:+0200
TZOFFSETTO:+0100
TZNAME:CET
DTSTART:20241027T010000
END:STANDARD
BEGIN:DAYLIGHT
TZOFFSETFROM:+0100
TZOFFSETTO:+0200
TZNAME:CEST
DTSTART:20250330T010000
END:DAYLIGHT
BEGIN:STANDARD
TZOFFSETFROM:+0200
TZOFFSETTO:+0100
TZNAME:CET
DTSTART:20251026T010000
END:STANDARD
BEGIN:DAYLIGHT
TZOFFSETFROM:+0100
TZOFFSETTO:+0200
TZNAME:CEST
DTSTART:20260329T010000
END:DAYLIGHT
BEGIN:STANDARD
TZOFFSETFROM:+0200
TZOFFSETTO:+0100
TZNAME:CET
DTSTART:20261025T010000
END:STANDARD
END:VTIMEZONE
BEGIN:VEVENT
DTSTART;TZID=Europe/Berlin:20250123T190000
DTEND;TZID=Europe/Berlin:20250123T220000
DTSTAMP:20260419T165651
CREATED:20241105T140250Z
LAST-MODIFIED:20241127T115552Z
UID:9865-1737658800-1737669600@teufelwerk.de
SUMMARY:RAUS AUS DER KOMFORTZONE mit Deniz Kayadelen
DESCRIPTION:Kick-Off 2025 – Starten Sie mit einer Herausforderung ins neue Jahr! \nDeniz Kayadelen ist World Champion im Eisschwimmen\, hat die Triple Crown Challenge gemeistert\, ist Weltrekordhalterin und Bestsellerautorin. \nDaneben hat sie mehr als 10 Jahre Erfahrung als Wirtschaftspsychologin im Talent- und Changemanagement bei Ernst&Young und im Jahr 2023 hat das NYC Journal sie zu den zehn einflussreichsten Frauen gekürt. \nMentale Stärke\, Disziplin\, Wille und Glaube an sich selbst – wenn man wirklich von einer Sache überzeugt ist\, kann einen nichts aufhalten. Auch nicht 16° kaltes Wasser\, in dem sie ohne Neoprenanzug stundenlang zu Höchstleistungen schwimmt. \nWir freuen uns Deniz im TEUFELWERK begrüßen zu dürfen und laden Sie herzlich ein\, sich von ihr begeistern und herausfordern zu lassen. \nIdeal für: Alle\, die sich weiterentwickeln wollen\, Führungskräfte\, Team- und Abteilungsleitungen\, Leistungsträger in Vertrieb und Marketing\, Menschen\, die nicht nur wollen\, sondern auch machen… \nKommen Sie mit Ihrem Team zu diesem besonderen Event ins TEUFELWERK oder verschenken Sie ein beeindruckendes Erlebnis an Menschen\, die sich herausfordern lassen. \n\nEinlass: 19 Uhr | Beginn: 20 Uhr \n\nEarlybird: 79€ (bis 31.12.2024)Normalpreis: 89€ (ab 01.01.2025) \nIm Ticketpreis enthalten ist ein Welcome-Drink sowie Snacks. \nGruppenanmeldungen und Businesskontingente auf Anfrage unter kontakt@teufelwerk.de \n  \n			\n				\n				\n				\n				\n				Präsentiert von:
URL:https://teufelwerk.de/event/raus-aus-der-komfortzone-mit-deniz-kayadelen/
LOCATION:Teufelwerk
ATTACH;FMTTYPE=image/png:https://teufelwerk.de/wp-content/uploads/Business-Speach-im-TEUFELWERK-von-Deniz-Kayadelen-am-23.01.2025.png
END:VEVENT
END:VCALENDAR